BEGIN:VCALENDAR
VERSION:2.0
PRODID:-//Swiss Canadian Chamber of Commerce (Quebec) - ECPv6.15.15//NONSGML v1.0//EN
CALSCALE:GREGORIAN
METHOD:PUBLISH
X-ORIGINAL-URL:https://cccsq.ca/en/
X-WR-CALDESC:Events for Swiss Canadian Chamber of Commerce (Quebec)
REFRESH-INTERVAL;VALUE=DURATION:PT1H
X-Robots-Tag:noindex
X-PUBLISHED-TTL:PT1H
BEGIN:VTIMEZONE
TZID:America/Toronto
BEGIN:DAYLIGHT
TZOFFSETFROM:-0500
TZOFFSETTO:-0400
TZNAME:EDT
DTSTART:20250309T070000
END:DAYLIGHT
BEGIN:STANDARD
TZOFFSETFROM:-0400
TZOFFSETTO:-0500
TZNAME:EST
DTSTART:20251102T060000
END:STANDARD
BEGIN:DAYLIGHT
TZOFFSETFROM:-0500
TZOFFSETTO:-0400
TZNAME:EDT
DTSTART:20260308T070000
END:DAYLIGHT
BEGIN:STANDARD
TZOFFSETFROM:-0400
TZOFFSETTO:-0500
TZNAME:EST
DTSTART:20261101T060000
END:STANDARD
BEGIN:DAYLIGHT
TZOFFSETFROM:-0500
TZOFFSETTO:-0400
TZNAME:EDT
DTSTART:20270314T070000
END:DAYLIGHT
BEGIN:STANDARD
TZOFFSETFROM:-0400
TZOFFSETTO:-0500
TZNAME:EST
DTSTART:20271107T060000
END:STANDARD
END:VTIMEZONE
BEGIN:VEVENT
DTSTART;TZID=America/Toronto:20260424T180000
DTEND;TZID=America/Toronto:20260424T200000
DTSTAMP:20260421T021113
CREATED:20251104T032426Z
LAST-MODIFIED:20260402T180038Z
UID:5191-1777053600-1777060800@cccsq.ca
SUMMARY:Wine & Swiss Cheese Tasting
DESCRIPTION:Jessica Harnois Wine Club Tasting at Club St-Denis\, Montreal – Swiss Special Edition \nA Gourmet Journey Through Swiss Products – April 24\, 2026 \nA unique tasting experience awaits you at the next Jessica Harnois Wine Club tasting. In collaboration with the Canada-Switzerland Chamber of Commerce (Quebec)\, we are delighted to invite you to an exceptional evening dedicated to Swiss products. \n📆 Friday\, April 24\, 2026 \n🕕 6:00 PM – 8:00 PM \n📍 Club St-Denis\, Montreal \nDuring this special edition\, you will have the opportunity to discover a selection of carefully chosen wines presented by a representative from Swiss Grapes\, while enjoying delicious Swiss specialties\, from fine cheeses to chocolate treats. A representative from Swiss Cheese Marketing will guide you through the cheeses\, while the chocolate delights will be provided by ITHQ. \nTo enrich the experience and enhance food and wine pairings\, Canadian wines from Arterra Canada\, as well as ports presented by Sogrape Vinhos\, will also be available for tasting. \nYour ticket includes: \n• Access to the tasting event \n• Sampling of Swiss and Canadian wines\, as well as ports \n• A gourmet experience with a selection of cheeses and chocolate treats\, perfect for creating your own food and wine pairings throughout the evening \nSeats are limited\, so we encourage you to reserve now to ensure you don’t miss this elegant and convivial evening. We look forward to welcoming you! \n✨ Member Advantage \nAre you a Club member? Enjoy a discount by registering directly through the “Events” page on our website. \n📣 Open to all! \nMembers and non-members are welcome\, but tickets sell out fast. Don’t wait — click below to reserve your spot now: \n🎟️ Members here \n🎟️ Non-members here
URL:https://cccsq.ca/en/event/wine-swiss-cheese-tasting-cccsq/
LOCATION:club st-denis\, 257 Sherbrooke est\, Montreal
ATTACH;FMTTYPE=image/png:https://cccsq.ca/wp-content/uploads/2025/11/Evenement-CCCSQ-11.png
END:VEVENT
BEGIN:VEVENT
DTSTART;TZID=America/Toronto:20260618T173000
DTEND;TZID=America/Toronto:20260618T203000
DTSTAMP:20260421T021113
CREATED:20251104T033113Z
LAST-MODIFIED:20260305T175636Z
UID:5193-1781803800-1781814600@cccsq.ca
SUMMARY:Our Annual General Meeting 2026
DESCRIPTION:Don’t miss our CCCSQ Annual General Meeting (AGM)\, a chance to meet the board of directors\, discuss upcoming projects\, and strengthen professional connections. 📊🤝 Discover the CCCSQ priorities and initiatives for the year ahead. \n📅 Date: TBA📍 Location: TBA \n🎫 Stay tuned for ticketing details and registration.
URL:https://cccsq.ca/en/event/agm-cccsq/
ATTACH;FMTTYPE=image/png:https://cccsq.ca/wp-content/uploads/2025/11/Evenement-CCCSQ-7.png
END:VEVENT
BEGIN:VEVENT
DTSTART;TZID=America/Toronto:20260903T173000
DTEND;TZID=America/Toronto:20260903T203000
DTSTAMP:20260421T021113
CREATED:20251104T033044Z
LAST-MODIFIED:20251110T143840Z
UID:5196-1788456600-1788467400@cccsq.ca
SUMMARY:Prestigious Cocktail at the Ritz-Carlton
DESCRIPTION:Discover the CCCSQ Ritz Evening\, a gourmet event in an elegant setting\, perfect for networking and sharing a unique experience with members. 🍽✨ Enjoy a refined culinary experience and insightful professional discussions. \n📅 Date: TBA📍 Location: TBA \n🎫 Stay tuned for ticketing details and more information.
URL:https://cccsq.ca/en/event/ritz-evening-cccsq/
ATTACH;FMTTYPE=image/png:https://cccsq.ca/wp-content/uploads/2025/11/Evenement-CCCSQ-10.png
END:VEVENT
END:VCALENDAR