BEGIN:VCALENDAR
VERSION:2.0
PRODID:-//Swiss Canadian Chamber of Commerce (Quebec) - ECPv6.15.15//NONSGML v1.0//EN
CALSCALE:GREGORIAN
METHOD:PUBLISH
X-ORIGINAL-URL:https://cccsq.ca/en/
X-WR-CALDESC:Events for Swiss Canadian Chamber of Commerce (Quebec)
REFRESH-INTERVAL;VALUE=DURATION:PT1H
X-Robots-Tag:noindex
X-PUBLISHED-TTL:PT1H
BEGIN:VTIMEZONE
TZID:America/Toronto
BEGIN:DAYLIGHT
TZOFFSETFROM:-0500
TZOFFSETTO:-0400
TZNAME:EDT
DTSTART:20200308T070000
END:DAYLIGHT
BEGIN:STANDARD
TZOFFSETFROM:-0400
TZOFFSETTO:-0500
TZNAME:EST
DTSTART:20201101T060000
END:STANDARD
BEGIN:DAYLIGHT
TZOFFSETFROM:-0500
TZOFFSETTO:-0400
TZNAME:EDT
DTSTART:20210314T070000
END:DAYLIGHT
BEGIN:STANDARD
TZOFFSETFROM:-0400
TZOFFSETTO:-0500
TZNAME:EST
DTSTART:20211107T060000
END:STANDARD
BEGIN:DAYLIGHT
TZOFFSETFROM:-0500
TZOFFSETTO:-0400
TZNAME:EDT
DTSTART:20220313T070000
END:DAYLIGHT
BEGIN:STANDARD
TZOFFSETFROM:-0400
TZOFFSETTO:-0500
TZNAME:EST
DTSTART:20221106T060000
END:STANDARD
BEGIN:DAYLIGHT
TZOFFSETFROM:-0500
TZOFFSETTO:-0400
TZNAME:EDT
DTSTART:20230312T070000
END:DAYLIGHT
BEGIN:STANDARD
TZOFFSETFROM:-0400
TZOFFSETTO:-0500
TZNAME:EST
DTSTART:20231105T060000
END:STANDARD
BEGIN:DAYLIGHT
TZOFFSETFROM:-0500
TZOFFSETTO:-0400
TZNAME:EDT
DTSTART:20240310T070000
END:DAYLIGHT
BEGIN:STANDARD
TZOFFSETFROM:-0400
TZOFFSETTO:-0500
TZNAME:EST
DTSTART:20241103T060000
END:STANDARD
BEGIN:DAYLIGHT
TZOFFSETFROM:-0500
TZOFFSETTO:-0400
TZNAME:EDT
DTSTART:20250309T070000
END:DAYLIGHT
BEGIN:STANDARD
TZOFFSETFROM:-0400
TZOFFSETTO:-0500
TZNAME:EST
DTSTART:20251102T060000
END:STANDARD
END:VTIMEZONE
BEGIN:VEVENT
DTSTART;TZID=America/Toronto:20240911T173000
DTEND;TZID=America/Toronto:20240911T193000
DTSTAMP:20260421T164237
CREATED:20240828T122723Z
LAST-MODIFIED:20240828T122723Z
UID:4497-1726075800-1726083000@cccsq.ca
SUMMARY:Prestige cocktail: Swiss evening at the Ritz-Carlton
DESCRIPTION:✨ An evening of elegance at The Ritz-Carlton Montreal✨ Join us for an exclusive 5@7 courtesy of Alfid Services Immobiliers. \n📅 September 11\, 2024 \n🕖 5:30 pm to 7:30 pm \n📍 Ritz-Carlton Montreal \n🌟 Highlights – The evening will be marked by the presence of Mme Line Léon-Pernet\, former Consule générale de Suisse au Canada\, and Anne-Béatrice Bullinger as we celebrate the transfer of title in a chic and convivial atmosphere. \n🍸 Cocktails and gourmet amuse-bouche will be served throughout the evening to complete this exceptional experience. \n🎟 Ultra-limited seating – Reserve now to secure your place at this prestigious event where business and pleasure will waltz together. \nRegister now! \nhttps://lepointdevente.com/billets/cocktailritzcarlton
URL:https://cccsq.ca/en/event/prestige-cocktail-swiss-evening-at-the-ritz-carlton/
LOCATION:Ritz-Carlton\, 1228\, rue Sherbrooke Ouest\, Montréal\, Québec\, H3G 1H6\, Canada
ATTACH;FMTTYPE=image/jpeg:https://cccsq.ca/wp-content/uploads/2024/08/474720951.jpg
END:VEVENT
BEGIN:VEVENT
DTSTART;TZID=America/Toronto:20240617T140000
DTEND;TZID=America/Toronto:20240617T213000
DTSTAMP:20260421T164237
CREATED:20240321T113211Z
LAST-MODIFIED:20240321T113211Z
UID:4279-1718632800-1718659800@cccsq.ca
SUMMARY:Annual Golf Tournament at the Montreal Country Club - June 2024
DESCRIPTION:Get your clubs ready for our annual golf tournament in June 2024 at the prestigious Montreal Country Club. \nA sports and networking event not to be missed! \nMore details to come!
URL:https://cccsq.ca/en/event/annual-golf-tournament-at-the-montreal-country-club-june-2024/
LOCATION:Country club de Montréal
ATTACH;FMTTYPE=image/jpeg:https://cccsq.ca/wp-content/uploads/2023/12/telechargement-1.jpg
END:VEVENT
BEGIN:VEVENT
DTSTART;TZID=America/Toronto:20240529T173000
DTEND;TZID=America/Toronto:20240529T200000
DTSTAMP:20260421T164237
CREATED:20240515T171219Z
LAST-MODIFIED:20240515T171219Z
UID:4332-1717003800-1717012800@cccsq.ca
SUMMARY:Bubbles & Business : Summer networking cocktail
DESCRIPTION:🌟 Bubbles & Business : Summer networking cocktail🥂🍾 \n📅Date: May29\n🕔Time: 5:30pm\n🏫 Location: 𝐈𝐓𝐇𝐐\, 𝐌𝐨𝐧𝐭𝐫𝐞́𝐚𝐥 \nJoin us for a sparkling evening at the Institut de tourisme et d’hôtellerie du Québec for our summer networking cocktail: Bubbles & Business 🍾 \nGet ready for an exceptional evening of networking\, lively discussion and celebration of local products in an elegant\, relaxed setting. \nDon’t miss this opportunity to make strategic connections while savoring Quebec delicacies and enjoying the vibrant atmosphere of the Institut de tourisme et d’hôtellerie du Québec. \n📝 Register now to reserve your place! \nhttps://lepointdevente.com/billets/bullesandbusiness \nA glass of Quebec sparkling wine is included in the registration fee. \nWe look forward to seeing you there! \n 
URL:https://cccsq.ca/en/event/bubbles-business-summer-networking-cocktail/
LOCATION:ITHQ\, 3535 R. Saint-Denis\, Montréal\, Québec\, H2X 3P1\, Canada
ATTACH;FMTTYPE=image/jpeg:https://cccsq.ca/wp-content/uploads/2023/12/mindful-drinking-1024x576-1.jpg
END:VEVENT
BEGIN:VEVENT
DTSTART;TZID=America/Toronto:20240430T180000
DTEND;TZID=America/Toronto:20240430T220000
DTSTAMP:20260421T164237
CREATED:20240321T112845Z
LAST-MODIFIED:20240321T112845Z
UID:4276-1714500000-1714514400@cccsq.ca
SUMMARY:Swiss-Canadian Harmonies: A symphonic evening with Frank Peter Zimmermann and the Montreal Symphony Orchestra
DESCRIPTION:Join us for an extraordinary evening where music and elegance converge! On April 30th\, the Swiss-Canadian Chamber of Commerce invites you to an exceptional event at the Montreal Symphony Orchestra\, sponsored by the Mirabaud Group. \nStarting at 6 pm\, immerse yourself in the enchanting atmosphere of an exclusive cocktail reception\, honoring the presence of the General Consulate\, Mrs. Line Léon-Pernet\, as well as the Ambassador of Switzerland to Canada\, Mr. Olaf Kjelsen. It’s a privileged moment to network and enjoy conviviality before the performance\, where cocktails and hors d’oeuvres will be served. \nAt 7:30 pm\, let yourself be carried away by the grandeur of classical music as the Montreal Symphony Orchestra\, under the direction of its talented Artistic Director Rafael Payare\, takes you on a captivating musical journey. \nOn the program\, magnificent works await you: Brahms’ Tragic Overture\, op.81\, Emilie Mayer’s Symphony No. 7 in F minor\, and the majestic Violin Concerto in D major\, op. 77\, performed by one of the greatest violinists of our time\, Frank Peter Zimmermann. \nCelebrate with us the convergence of music and camaraderie in this exceptional cultural rendezvous. \nReserve your spot now for a memorable evening. \nSign up here: https://lepointdevente.com/billets/8g2240430001
URL:https://cccsq.ca/en/event/swiss-canadian-harmonies-a-symphonic-evening-with-frank-peter-zimmermann-and-the-montreal-symphony-orchestra/
LOCATION:La maison symphonique\, 1600 Rue Saint-Urbain\, Montréal\, Québec\, H2X 0S1\, Canada
ATTACH;FMTTYPE=image/jpeg:https://cccsq.ca/wp-content/uploads/2023/12/Selection-Medias-OSM-12-septembre-2023-9©GabrielFournier.jpg
END:VEVENT
BEGIN:VEVENT
DTSTART;TZID=America/Toronto:20240213T073000
DTEND;TZID=America/Toronto:20240213T090000
DTSTAMP:20260421T164237
CREATED:20240124T122757Z
LAST-MODIFIED:20240124T122757Z
UID:4111-1707809400-1707814800@cccsq.ca
SUMMARY:2024 Global economic outlook by Mirabaud Group
DESCRIPTION:Get ready to dive deep into the economic outlook for 2024 with Mirabaud Group\, leader in wealth management for individuals & entrepreneurs and its three speakers Mr. John Plassard\, Mr. Gero Jung and Mr. Luc Desbiens at an unmissable lunchtime conference at the sumptuous The Saint James’s Club of Montreal presented by the talented Simon Durivage. 📈💼 \n🗓️ Date: February 13\, 2024\, 7:30 am\n📍 Location: Club Saint-James de Montréal \nSeize this unique opportunity to decode upcoming economic trends and capture emerging opportunities. \nReserve your place now! \nhttps://lepointdevente.com/billets/8g2240213001 \nTranslated with DeepL.com (free version)
URL:https://cccsq.ca/en/event/2024-global-economic-outlook-by-mirabaud-group/
LOCATION:Club Saint James de Montréal\, 1145 avenue Union\, Montréal\, Québec\, H3B3C2\, Canada
ATTACH;FMTTYPE=image/webp:https://cccsq.ca/wp-content/uploads/2024/01/depositphotos_27765485-stock-photo-businessman-hand-working-with-new.webp
END:VEVENT
BEGIN:VEVENT
DTSTART;TZID=America/Toronto:20231205T173000
DTEND;TZID=America/Toronto:20231205T200000
DTSTAMP:20260421T164237
CREATED:20231116T122017Z
LAST-MODIFIED:20231116T122017Z
UID:4006-1701797400-1701806400@cccsq.ca
SUMMARY:Mulled wine for the holidays !
DESCRIPTION:🎉🍷 We’re delighted to invite you to an evening of celebration! \nJoin us on December 5th at 5:30pm at Montréal’s Hotel Gault for our mulled wine event\, in collaboration with our exceptional partners: Advantage Austria\, the Honorary General Consulate of Austria\, the Austrian Society\, the Canadian German Chamber of Industry and Commerce\, the General consulate of Germany\, State of Bavaria Montreal Office\, the Swiss Business Hub and General Consulate of Switzerland in Montreal. 🥂 \nImmerse yourself in the history and tradition of mulled wine\, this comforting beverage that has stayed with us over centuries. Originally created in the northern regions of Europe\, it has become a symbol of sharing\, friendship and “Gemütlichkeit”. \nJoin us for this special evening\, where business meets tradition. Together\, let us create lasting memories and strengthen the ties that bind our business communities. \nAs the icing on the cake and thanks to the generosity of Air Canada–  you will have the chance to win a pair of plane tickets to Europe\, to the destination of your choice! 🌍✈️ \nAppetizers will also be served during the evening. \nTo register :\nhttps://lnkd.in/e-9tyavB
URL:https://cccsq.ca/en/event/mulled-wine-for-the-holidays/
LOCATION:Hôtel Gault\, 449 rue Sainte-Hélène\, Montréal\, Québec\, H2Y 2K9\, Canada
ATTACH;FMTTYPE=image/jpeg:https://cccsq.ca/wp-content/uploads/2023/11/vin-chaud-philippe-de-vienne-scaled.jpeg
END:VEVENT
BEGIN:VEVENT
DTSTART;TZID=America/Toronto:20231115T180000
DTEND;TZID=America/Toronto:20231115T213000
DTSTAMP:20260421T164237
CREATED:20231028T141711Z
LAST-MODIFIED:20231028T141711Z
UID:3819-1700071200-1700083800@cccsq.ca
SUMMARY:Our famous Fondue is back!
DESCRIPTION:It is with great pleasure that we invite you to our flagship event of the year: the Annual Swiss Fondue! 🧀✨ \n🗓️ Date: Wednesday\, November 15\n🕕 Time: 6:00 pm\n📍 Location: Auberge Saint-Gabriel 🏰 \nAs you no doubt know\, this evening holds a special significance for our Chamber. It symbolizes our commitment to strengthening the commercial and cultural ties between Canada and Switzerland.🌐🤝 \nWe firmly believe in the power of networking and professional exchanges to advance our industries and foster innovation. This evening represents a privileged moment to strengthen these ties and create new opportunities. 🚀🌱 \nWe look forward to sharing this unique moment with you and continuing to build a prosperous future together for our businesses and our community. 🌟🌱 \nTo register: \nhttps://lepointdevente.com/billets/8g2231115001
URL:https://cccsq.ca/en/event/our-famous-fondue-is-back/
LOCATION:Auberge St-Gabriel\, 426\, rue Saint-Gabriel\, Montréal\, Québec\, H2Y 2Z9\, Canada
ATTACH;FMTTYPE=image/png:https://cccsq.ca/wp-content/uploads/2023/10/Creation-sans-titre-1.png
END:VEVENT
BEGIN:VEVENT
DTSTART;TZID=America/Toronto:20231102T173000
DTEND;TZID=America/Toronto:20231102T193000
DTSTAMP:20260421T164237
CREATED:20231028T141042Z
LAST-MODIFIED:20231028T141147Z
UID:3811-1698946200-1698953400@cccsq.ca
SUMMARY:Attracting\, retaining and engaging the workforce: How to make the most of it in 2023?
DESCRIPTION:Don’t miss our exclusive panel on November 2\, starting at 5:30pm at CEIM\, organized in partnership with our sponsor; PIXCELL – Recruteurs d’élite. \nWe’ll be tackling the burning issues affecting every company in Quebec and Canada in 2023: attracting\, retaining and engaging the workforce. \nModerated by François Piché-Roy\, President and Managing Partner of PIXCELL – Elite Recruiters\, you’ll have the chance to hear how some organizations are succeeding despite the current labor shortage. \nOur panel will include: \n– Mr. Mathieu Lefort\, Senior Director\, International Talent – MONTRÉAL INTERNATIONAL. \n– Mr. Sylvain Simpson\, President of CROESUS. \n– Mr. Benjamin Van Den Eede\, President of LA MAISON BV. and \n– Mr. Xavier Matry\, Senior Director\, People & Change KPMG. \n  \nHere are some of the topics that will be discussed: \n  \n– The importance of the ‘sense of purpose’\, or raison d’être in business\, particularly for the retention and engagement of new generations. \n– In the war for talent\, how can David beat Goliath? How can smaller companies compete with large multinationals? \n– How do you recruit from abroad? \n– Once this foreign workforce has been recruited\, how can it be properly integrated into the company and its new environment? \n– Employer branding: how your employees can become your first ambassadors. \n  \nAn unmissable opportunity for all business owners and human resources professionals. \n  \nTo register : \nhttps://lepointdevente.com/billets/8g2231102001
URL:https://cccsq.ca/en/event/attracting-retaining-and-engaging-the-workforce-how-to-make-the-most-of-it-in-2023/
LOCATION:CEIM\, 20 rue Queen\, Montréal\, Québec\, H3C 2N5\, Canada
ATTACH;FMTTYPE=image/jpeg:https://cccsq.ca/wp-content/uploads/2023/10/penurie-770x433-1.jpg
END:VEVENT
BEGIN:VEVENT
DTSTART;TZID=America/Toronto:20230504T170000
DTEND;TZID=America/Toronto:20230504T193000
DTSTAMP:20260421T164237
CREATED:20230425T202324Z
LAST-MODIFIED:20230425T202324Z
UID:3604-1683219600-1683228600@cccsq.ca
SUMMARY:Come and meet the Swiss Ambassador to Canada\, Mr. Olaf Kjelsen
DESCRIPTION:You are cordially invited to a special evening in honour of the visit of the Swiss Ambassador to Canada\, Mr. Olaf Kjelsen\, to Montreal. This evening will be a unique opportunity to discuss the bilateral relations between Switzerland and Canada. \nThe evening will take place at Atipik Pub\, one of the most popular pubs on Crescent Street\, known for its warm atmosphere and relaxed ambiance. Appetizers will be served and one drink per person will be provided. \nDon’t forget to share this invitation with your friends and colleagues who might be interested in this unique opportunity to meet the Swiss Ambassador to Canada. \nWe hope to see many of you at the event!
URL:https://cccsq.ca/en/event/come-and-meet-the-swiss-ambassador-to-canada-mr-olaf-kjelsen/
LOCATION:Pub Atipik\, 1458 Rue Crescent\, Montréal\, Québec\, Canada
ATTACH;FMTTYPE=image/jpeg:https://cccsq.ca/wp-content/uploads/2023/04/Canada__Montreal__Skyline-scaled.jpg
END:VEVENT
BEGIN:VEVENT
DTSTART;TZID=America/Toronto:20230223T180000
DTEND;TZID=America/Toronto:20230223T210000
DTSTAMP:20260421T164237
CREATED:20230206T200432Z
LAST-MODIFIED:20230206T200432Z
UID:3582-1677175200-1677186000@cccsq.ca
SUMMARY:The 2023 Raclette Party
DESCRIPTION:EVENT ????????| It’s time to come and enjoy our famous raclette! \nCome meet a host of talented professionals and entrepreneurs on thursday February 23rd at 6pm in the enchanting setting of Auberge Saint-Gabriel\, to celebrate this 500-year-old Swiss tradition! \nA perfect opportunity to combine culinary delights and business opportunities in excellent company. \nAlso\, you will have the chance to win one of the many prizes in our raffle and silent auction during the evening. \nRegister early\, as this exceptional event is in high demand! \nTo register : \nhttps://www.eventbrite.ca/e/billets-la-soiree-raclette-2023-536211451887?fbclid=IwAR16ajbQt3y-KAKB1tImg3ZWtMhn4V_oDpRKTjRdfhSlvX24XTVTolCuMNU
URL:https://cccsq.ca/en/event/the-2023-raclette-party/
LOCATION:Auberge St-Gabriel\, 426\, rue Saint-Gabriel\, Montréal\, Québec\, H2Y 2Z9\, Canada
ATTACH;FMTTYPE=image/jpeg:https://cccsq.ca/wp-content/uploads/2023/02/raclette-2.jpg
END:VEVENT
BEGIN:VEVENT
DTSTART;TZID=America/Toronto:20220824T080000
DTEND;TZID=America/Toronto:20220824T170000
DTSTAMP:20260421T164237
CREATED:20220824T165708Z
LAST-MODIFIED:20220824T165708Z
UID:3443-1661328000-1661360400@cccsq.ca
SUMMARY:SAVE THE DATE | Apéro in Geneva
DESCRIPTION:Our first event of the fall is finally upon us! \nWe are expecting you all on wednesday\, September 14 at 5:30 pm\, at the CEIM in the Old Port of Montreal\, for an apéro in a Geneva atmosphere. \nMore details to come
URL:https://cccsq.ca/en/event/save-the-date-apero-in-geneva/
LOCATION:Québec
ATTACH;FMTTYPE=image/jpeg:https://cccsq.ca/wp-content/uploads/2022/08/Walk-everywhere-geneva.jpg
END:VEVENT
BEGIN:VEVENT
DTSTART;TZID=America/Toronto:20211129T120000
DTEND;TZID=America/Toronto:20211129T130000
DTSTAMP:20260421T164237
CREATED:20211123T003316Z
LAST-MODIFIED:20211123T003436Z
UID:3125-1638187200-1638190800@cccsq.ca
SUMMARY:CEO-SERIES INTERVIEW
DESCRIPTION:EVENT  I Would you be interested in being part of an out-of-the-ordinary lunch break?\n\n\n\nIf so\, join the Chambre de Commerce Canado-Suisse – Québec on ZOOM on ???????????????????????????????? ???????????????? ???????? ????????.????????????????\, for a CEO-Series interview between ????????. ???????????????? ???????????????????? and the successful Swiss entrepreneur\, ????????. ???????????????????????? ????????????????????????????????????????.\n\n\n\nNamed as one of the world’s greatest business thinkers\, Dr. Karl Moore has shared his knowledge with the Universities of Oxford\, Stanford\, Harvard\, and Cambridge and conducted interviews with none other than M. Justin Trudeau\, M. Geoff Molson (Montreal Canadians)\, and M. Alain Bellemare (Bombardier). Recently nominated at the “Thinkers50” international Gala for his remarkable progress in management\, M. Karl Moore still proves to this day that he is one of the lead thinkers in his field of expertise.\n\n\n\nThroughout this lunch break\, Karl will discuss innovation\, technology\, and strategy with none other than Ms. Nicola Thibaudeau\, a mechanical engineer by training\, CEO of the leading Swiss company MPS Micro Precision Systems AG which manufactures unique\, miniature\, and reliable high-precision electromechanical systems.\n\n\n\nIt is an incredible opportunity to share a moment with these two great business figures and we hope we can count you in.\n\n\n\nWe want to thank the Canadian-Swiss Chamber of Commerce (Switzerland) for the excellent collaboration and our sponsor ALFID\n\n\nhttps://www.eventbrite.ca/e/billets-ceo-series-interview-211690079727 fbclid=IwAR1eZIdspXoSDcCVRItsGsk3UMcEdueqnjzCZesvaNtDKGkS6pQMyUh-2qc
URL:https://cccsq.ca/en/event/ceo-series-interview/
LOCATION:En ligne
ATTACH;FMTTYPE=image/jpeg:https://cccsq.ca/wp-content/uploads/2021/11/mountain-2645943_960_720.jpg
END:VEVENT
BEGIN:VEVENT
DTSTART;TZID=America/Toronto:20210616T173000
DTEND;TZID=America/Toronto:20210616T190000
DTSTAMP:20260421T164237
CREATED:20210525T220447Z
LAST-MODIFIED:20210525T231940Z
UID:2605-1623864600-1623870000@cccsq.ca
SUMMARY:Annual General Meeting 2021
DESCRIPTION:Now is the time for hindsight!\n  \nThe year 2020 was special for everyone and the SCCCQ was no exception. We have adapted our activities\, improved our services to members and developed new tools to reach our community. \nTo discuss together\, we invite you to the Annual General Meeting which will be held virtually on Wednesday\, June 16\, 2021 at 5:30 p.m. \nAll relevant documents can be found at the bottom of this page. \nWe look forward to seeing you at this annual meeting\, in order to present the results of the past year\, our plans for the next year and obtain your comments. \nFor any questions do not hesitate to contact us. \nWe look forward to having you with us! \n** Exclusive to members ** \nREGISTRATION
URL:https://cccsq.ca/en/event/annual-general-meeting-2021/
LOCATION:En ligne
ATTACH;FMTTYPE=image/png:https://cccsq.ca/wp-content/uploads/2021/05/AGA-2021-Mailchimp-2.png
END:VEVENT
END:VCALENDAR